BEGIN:VCALENDAR
PRODID:-//Mozilla.org/NONSGML Mozilla Calendar V1.1//EN
VERSION:2.0
CALSCALE:GREGORIAN
BEGIN:VEVENT
DTSTAMP:20260422T120758Z
DTSTART:20260423T043000
DTEND:20260423T050000
SUMMARY:2015 RENAULT CLIO 
LOCATION:http://www.copart.com.br:80
DESCRIPTION:Please join us for the following auction:\n\n2015 RENAULT CLI
 O \nwww.copart.com.br\n\n\n\nContact us at member.services@copart.com or
  (972) 391-5400 if you have any questions leading up to the auction.\n\n
 \n-Your Copart Team
UID:20260422T120759Z-uidGen@lvpbaw212.corp.copart.com
END:VEVENT
END:VCALENDAR
